BEGIN:VCALENDAR
VERSION:2.0
PRODID:-//Offene Tür | OT Dortmund - ECPv6.11.2//NONSGML v1.0//EN
CALSCALE:GREGORIAN
METHOD:PUBLISH
X-WR-CALNAME:Offene Tür | OT Dortmund
X-ORIGINAL-URL:https://www.ot-dortmund.de
X-WR-CALDESC:Veranstaltungen für Offene Tür | OT Dortmund
REFRESH-INTERVAL;VALUE=DURATION:PT1H
X-Robots-Tag:noindex
X-PUBLISHED-TTL:PT1H
BEGIN:VTIMEZONE
TZID:Europe/Berlin
BEGIN:DAYLIGHT
TZOFFSETFROM:+0100
TZOFFSETTO:+0200
TZNAME:CEST
DTSTART:20260329T010000
END:DAYLIGHT
BEGIN:STANDARD
TZOFFSETFROM:+0200
TZOFFSETTO:+0100
TZNAME:CET
DTSTART:20261025T010000
END:STANDARD
END:VTIMEZONE
BEGIN:VEVENT
DTSTART;TZID=Europe/Berlin:20260420T160000
DTEND;TZID=Europe/Berlin:20260420T200000
DTSTAMP:20260420T145521
CREATED:20241205T155345Z
LAST-MODIFIED:20241211T150459Z
UID:10000213-1776700800-1776715200@www.ot-dortmund.de
SUMMARY:Billiard-Spaß für Kids und Teens
DESCRIPTION:Hast du Lust\, am Billiard-Tisch deine Geschicklichkeit zu zeigen\, neue Tricks zu lernen und eine coole Zeit zu verbringen? Dann ist unser Billiard-Angebot genau das Richtige für dich!\nWir haben alles\, was du zum Billardspielen brauchst: Tische\, Queues und eine lockere Atmosphäre. Bei uns kannst du üben\, spielen und dabei jede Menge Spaß haben – Egal\, ob du neu anfängst oder schon ein paar Kugeln versenken kannst. Wir erklären dir\, wie man den Queue richtig hält\, clevere Stöße machst und gezielt die Kugeln versenkst. Deine Fähigkeiten kannst du in spannenden Wettbewerben oder gemeinsamen Spielen unter Beweis stellen. \nUnser Billiard-Angebot richtet sich an alle Kinder und Jugendlichen\, die Lust haben\, in die Welt des Billiards einzutauchen. Ob entspannt oder ehrgeizig – hier ist immer was los!
URL:https://www.ot-dortmund.de/programmuebersicht/billiard-spass-fuer-kids-und-teens/2026-04-20/
LOCATION:St. Liborius\, Liboristraße 22\, Dortmund\, 44143\, Germany
ATTACH;FMTTYPE=image/jpeg:https://www.ot-dortmund.de/cms/wp-content/uploads/2024/12/ot-dortmund-billard-spass-kinder-teens-jugendliche.jpg
END:VEVENT
BEGIN:VEVENT
DTSTART;TZID=Europe/Berlin:20260420T160000
DTEND;TZID=Europe/Berlin:20260420T200000
DTSTAMP:20260420T145521
CREATED:20241211T144900Z
LAST-MODIFIED:20241211T150531Z
UID:10001257-1776700800-1776715200@www.ot-dortmund.de
SUMMARY:Kicker-Action für alle
DESCRIPTION:Hast du Lust auf spannende Matches und möchtest zeigen\, was du am Kicker-Tisch draufhast? Dann komm vorbei und werde Teil unseres Kicker-Angebots!\nBei unserem Kicker-Angebot kannst du neue Tricks lernen\, deine Technik verbessern und gegen andere antreten – aber auch garantiert eine Menge Spaß haben! Zeig dein Können in kleinen Wettbewerben\, spiele im Doppel und hol dir mit deinem Team den Sieg oder fordere neue Gegner heraus! Lass dir coole Tricks zeigen und werde mit jedem Match besser. Ob ernsthafte Herausforderungen oder einfach nur lockere Runden – Bei uns geht es vor allem um den gemeinsam Spaß.  \nUnser Kicker-Angebot richtet sich an alle Kinder und Jugendlichen\, die Lust auf Action am Kicker-Tisch haben. Dabei ist es ganz egal\, ob du ein Profi oder Anfänger bist. \nAlter: 6 bis 18 Jahre
URL:https://www.ot-dortmund.de/programmuebersicht/kicker-action-fuer-alle/2026-04-20/
LOCATION:St. Liborius\, Liboristraße 22\, Dortmund\, 44143\, Germany
ATTACH;FMTTYPE=image/jpeg:https://www.ot-dortmund.de/cms/wp-content/uploads/2024/12/ot-dortmund-kicker-kinder-jugendliche.jpg
END:VEVENT
BEGIN:VEVENT
DTSTART;TZID=Europe/Berlin:20260420T160000
DTEND;TZID=Europe/Berlin:20260420T200000
DTSTAMP:20260420T145521
CREATED:20241211T145837Z
LAST-MODIFIED:20241211T145837Z
UID:10002019-1776700800-1776715200@www.ot-dortmund.de
SUMMARY:Gaming-Auszeit! Dein Platz für Playstation
DESCRIPTION:Du liebst Playstationspiele und hast Lust auf coole Matches\, spannende Abenteuer und jede Menge Spielspaß? Dann bist du bei uns genau richtig! Tauche ein in die Welt der Playstationspiele und werde Teil unseres Gaming-Angebots! \nUnser Playstation-Angebot ist der perfekte Ort\, um deine eigenen Skills in spannenden Spielen zu testen oder einfach nur entspannt zu zocken. Von Fußball-Duellen in Fifa bis zu tanzenden Abenteuern in Just Dance – wir haben Games für jeden Geschmack. Egal ob Sport\, Action\, Strategie oder kreative Spiele – Bei uns gibt es immer was Neues auszuprobieren. \nDas Angebot richtet sich an alle Kinder und Jugendlichen\, die Lust auf Gaming haben. Es ist egal\, ob du schon ein Profi bist oder einfach mal reinschnuppern möchtest – Die Hauptsache dabei ist Spaß! \nAlter: 6 bis 18 Jahre
URL:https://www.ot-dortmund.de/programmuebersicht/gaming-auszeit-dein-platz-fuer-playstation/2026-04-20/
LOCATION:St. Liborius\, Liboristraße 22\, Dortmund\, 44143\, Germany
ATTACH;FMTTYPE=image/jpeg:https://www.ot-dortmund.de/cms/wp-content/uploads/2024/12/ot-dortmund-angebot-gaming-playstation-jugendliche-kinder.jpg
END:VEVENT
BEGIN:VEVENT
DTSTART;TZID=Europe/Berlin:20260420T160000
DTEND;TZID=Europe/Berlin:20260420T200000
DTSTAMP:20260420T145521
CREATED:20241211T150220Z
LAST-MODIFIED:20241211T150220Z
UID:10002351-1776700800-1776715200@www.ot-dortmund.de
SUMMARY:Tischtennis - Deine Chance auf schnelle Ballwechsel und jede Menge Spaß!
DESCRIPTION:Du suchst nach einer schnellen\, spannenden Sportart\, die jede Menge Spaß macht? Dann ist unser Tischtennis-Angebot genau das Richtige!  Egal\, ob du schon ein Ass am Schläger bist oder es einfach mal ausprobieren möchtest – hier kann sich jeder auspowern\, neue Leute kennenlernen und sein Geschick unter Beweis stellen. \nBei uns kannst du neue Techniken lernen und dich immer weiter verbessern. In kleinen Wettbewerben kannst du deine Fähigkeiten unter Beweis stellen und den Nervenkitzel erleben\, wenn jeder Punkt zählt. Aber bei uns geht’s nicht nur ums Gewinnen – es geht um Action\, Fairplay und eine coole Zeit mit anderen! Tischtennis macht nicht nur Bock\, sondern ist auch eine tolle Möglichkeit dem\, Schulalltag zu entfliehen. \nDas Tischtennis-Angebot richtet sich an alle Kinder und Jugendlichen\, die Lust haben zum Schläger zu greifen\, sich neuen Herausforderungen zu stellen und Teil unseres Tischtennis-Angebots werden möchten.  \nAlter: 6 bis 18 Jahre
URL:https://www.ot-dortmund.de/programmuebersicht/tischtennis-deine-chance-auf-schnelle-ballwechsel-und-jede-menge-spass/2026-04-20/
LOCATION:St. Liborius\, Liboristraße 22\, Dortmund\, 44143\, Germany
ATTACH;FMTTYPE=image/jpeg:https://www.ot-dortmund.de/cms/wp-content/uploads/2024/12/ot-dortmund-tischtennis-kinder-jugendliche-teens.jpg
END:VEVENT
END:VCALENDAR